BEGIN:VCALENDAR
VERSION:2.0
PRODID:-//Tukios.com/
BEGIN:VEVENT
UID:a9485c6b-22ed-4355-91e1-df114de84e12@www.ealvinsmall.com
DTSTAMP:20260421T013809Z
DTSTART:20260427T180000Z
DTEND:20260427T190000Z
SUMMARY:Visitation
DESCRIPTION:
URL:https://www.ealvinsmall.com/obituaries/christine-metcalf
LOCATION: 2033 Boulevard  Colonial Heights VA 23834
GEO:37.2596449;-77.4109667
END:VEVENT
END:VCALENDAR