BEGIN:VCALENDAR
VERSION:2.0
PRODID:-//Tukios.com/
BEGIN:VEVENT
UID:46c8cf72-8a8e-4346-9358-89f30a72b755@www.ealvinsmall.com
DTSTAMP:20260421T013809Z
DTSTART:20260427T190000Z
DTEND:20260427T200000Z
SUMMARY:Funeral Service
DESCRIPTION:
URL:https://www.ealvinsmall.com/obituaries/christine-metcalf
LOCATION: 2033 Boulevard  Colonial Heights VA 23834
GEO:37.2596449;-77.4109667
END:VEVENT
END:VCALENDAR