BEGIN:VCALENDAR
VERSION:2.0
PRODID:-//Tukios.com/
BEGIN:VEVENT
UID:278f67e7-2ef8-4205-95cb-7b95c7eb9fa7@www.ealvinsmall.com
DTSTAMP:20260420T212951Z
DTSTART:20260425T140000Z
DTEND:20260425T150000Z
SUMMARY:Visitation
DESCRIPTION:
URL:https://www.ealvinsmall.com/obituaries/mary-meg-duarte
LOCATION:St. Ann Catholic Church 17111 Route 1  South Chesterfield VA 
	23834
GEO:37.2874427;-77.4114853
END:VEVENT
END:VCALENDAR