BEGIN:VCALENDAR
VERSION:2.0
PRODID:-//Tukios.com/
BEGIN:VEVENT
UID:66f9ed86-d666-48c5-a598-43b60913f604@www.ealvinsmall.com
DTSTAMP:20260420T213014Z
DTSTART:20260425T150000Z
DTEND:20260425T160000Z
SUMMARY:Funeral Service
DESCRIPTION:
URL:https://www.ealvinsmall.com/obituaries/mary-meg-duarte
LOCATION:St. Ann Catholic Church 17111 Route 1  South Chesterfield VA 
	23834
GEO:37.2874427;-77.4114853
END:VEVENT
END:VCALENDAR