BEGIN:VCALENDAR
VERSION:2.0
PRODID:-//Tukios.com/
BEGIN:VEVENT
UID:409303f0-8f68-4309-8bd7-30dabf5a7cae@www.ealvinsmall.com
DTSTAMP:20260425T231714Z
DTSTART:20260430T160000Z
DTEND:20260430T170000Z
SUMMARY:Visitation
DESCRIPTION:
URL:https://www.ealvinsmall.com/obituaries/sylvia-massey
LOCATION: 3935 S. Crater Road  Petersburg VA 23805
GEO:37.1721728;-77.3590791
END:VEVENT
END:VCALENDAR