BEGIN:VCALENDAR
VERSION:2.0
PRODID:-//Tukios.com/
BEGIN:VEVENT
UID:16499a4a-1571-4ef9-83a5-b7b556c0f039@www.ealvinsmall.com
DTSTAMP:20260425T231132Z
DTSTART:20260430T170000Z
DTEND:20260430T180000Z
SUMMARY:Funeral Service
DESCRIPTION:
URL:https://www.ealvinsmall.com/obituaries/sylvia-massey
LOCATION: 3935 S. Crater Road  Petersburg VA 23805
GEO:37.1721728;-77.3590791
END:VEVENT
END:VCALENDAR