BEGIN:VCALENDAR
VERSION:2.0
PRODID:-//Tukios.com/
BEGIN:VEVENT
UID:90bf7311-a195-43c3-b482-344f9dbb7db1@www.ealvinsmall.com
DTSTAMP:20260425T231423Z
DTSTART:20260430
SUMMARY:Interment Following Funeral Service
DESCRIPTION:
URL:https://www.ealvinsmall.com/obituaries/sylvia-massey
LOCATION: 1911 Birdsong Rd  South Prince George VA 23805
GEO:37.1651868;-77.3674731
END:VEVENT
END:VCALENDAR